BEGIN:VCALENDAR
VERSION:2.0
PRODID:https://www.kufer.de/kuferweb / DE
METHOD:PUBLISH
CALSCALE:GREGORIAN
X-WR-TIMEZONE:Europe/Berlin
BEGIN:VTIMEZONE
TZID:Europe/Berlin
X-LIC-LOCATION:Europe/Berlin
BEGIN:DAYLIGHT
TZOFFSETFROM:+0100
TZOFFSETTO:+0200
TZNAME:CEST
DTSTART:19700329T020000
RRULE:FREQ=YEARLY;INTERVAL=1;BYDAY=-1SU;BYMONTH=3
END:DAYLIGHT
BEGIN:STANDARD
TZOFFSETFROM:+0200
TZOFFSETTO:+0100
TZNAME:CET
DTSTART:19701025T030000
RRULE:FREQ=YEARLY;INTERVAL=1;BYDAY=-1SU;BYMONTH=10
END:STANDARD
END:VTIMEZONE
BEGIN:VEVENT
DTSTAMP:20260424T185202
DTSTART;TZID=Europe/Berlin:20260508T160000
DTEND;TZID=Europe/Berlin:20260508T173000
UID:T135-20260508T160000@URANIAGRAZ
SUMMARY:Von der flötenden Amsel bis zum schmetternden Zaunkönig -- Vogelstimmentraining für EinsteigerInnen (T135) 
LOCATION:URANIA, Hauptplatz 16-17/II, Kursraum 10 "Uranus", Hauptplatz 16-17/2. Stock, 8010 Graz
END:VEVENT
BEGIN:VEVENT
DTSTAMP:20260424T185202
DTSTART;TZID=Europe/Berlin:20260508T160000
DTEND;TZID=Europe/Berlin:20260508T173000
UID:T135-20260508T160000@URANIAGRAZ
SUMMARY:Von der flötenden Amsel bis zum schmetternden Zaunkönig -- Vogelstimmentraining für EinsteigerInnen (T135) 
LOCATION:URANIA, Hauptplatz 16-17/II, Kursraum 10 "Uranus", Hauptplatz 16-17/2. Stock, 8010 Graz
END:VEVENT
BEGIN:VEVENT
DTSTAMP:20260424T185202
DTSTART;TZID=Europe/Berlin:20260509T070000
DTEND;TZID=Europe/Berlin:20260509T100000
UID:T135-20260509T070000@URANIAGRAZ
SUMMARY:Von der flötenden Amsel bis zum schmetternden Zaunkönig -- Vogelstimmentraining für EinsteigerInnen (T135) 
LOCATION:Exkursion
END:VEVENT
BEGIN:VEVENT
DTSTAMP:20260424T185202
DTSTART;TZID=Europe/Berlin:20260509T070000
DTEND;TZID=Europe/Berlin:20260509T100000
UID:T135-20260509T070000@URANIAGRAZ
SUMMARY:Von der flötenden Amsel bis zum schmetternden Zaunkönig -- Vogelstimmentraining für EinsteigerInnen (T135) 
LOCATION:Exkursion
END:VEVENT
END:VCALENDAR