BEGIN:VCALENDAR
VERSION:2.0
PRODID:https://www.kufer.de/kuferweb / DE
METHOD:PUBLISH
CALSCALE:GREGORIAN
X-WR-TIMEZONE:Europe/Berlin
BEGIN:VTIMEZONE
TZID:Europe/Berlin
X-LIC-LOCATION:Europe/Berlin
BEGIN:DAYLIGHT
TZOFFSETFROM:+0100
TZOFFSETTO:+0200
TZNAME:CEST
DTSTART:19700329T020000
RRULE:FREQ=YEARLY;INTERVAL=1;BYDAY=-1SU;BYMONTH=3
END:DAYLIGHT
BEGIN:STANDARD
TZOFFSETFROM:+0200
TZOFFSETTO:+0100
TZNAME:CET
DTSTART:19701025T030000
RRULE:FREQ=YEARLY;INTERVAL=1;BYDAY=-1SU;BYMONTH=10
END:STANDARD
END:VTIMEZONE
BEGIN:VEVENT
DTSTAMP:20260421T184411
DTSTART;TZID=Europe/Berlin:20260429T171500
DTEND;TZID=Europe/Berlin:20260429T184500
UID:T352-20260429T171500@URANIAGRAZ
SUMMARY:Kreatives Schreiben -- Vom ersten Satz bis zur Veröffentlichung (T352) 
LOCATION:URANIA, Hauptplatz 16-17/II, Kursraum 02 "Merkur", Hauptplatz 16-17, 8010 Graz
END:VEVENT
BEGIN:VEVENT
DTSTAMP:20260421T184411
DTSTART;TZID=Europe/Berlin:20260506T171500
DTEND;TZID=Europe/Berlin:20260506T191500
UID:T352-20260506T171500@URANIAGRAZ
SUMMARY:Kreatives Schreiben -- Vom ersten Satz bis zur Veröffentlichung (T352) 
LOCATION:URANIA, Hauptplatz 16-17/II, Kursraum 02 "Merkur", Hauptplatz 16-17, 8010 Graz
END:VEVENT
BEGIN:VEVENT
DTSTAMP:20260421T184411
DTSTART;TZID=Europe/Berlin:20260520T171500
DTEND;TZID=Europe/Berlin:20260520T191500
UID:T352-20260520T171500@URANIAGRAZ
SUMMARY:Kreatives Schreiben -- Vom ersten Satz bis zur Veröffentlichung (T352) 
LOCATION:URANIA, Hauptplatz 16-17/II, Kursraum 02 "Merkur", Hauptplatz 16-17, 8010 Graz
END:VEVENT
BEGIN:VEVENT
DTSTAMP:20260421T184411
DTSTART;TZID=Europe/Berlin:20260527T171500
DTEND;TZID=Europe/Berlin:20260527T191500
UID:T352-20260527T171500@URANIAGRAZ
SUMMARY:Kreatives Schreiben -- Vom ersten Satz bis zur Veröffentlichung (T352) 
LOCATION:URANIA, Hauptplatz 16-17/II, Kursraum 02 "Merkur", Hauptplatz 16-17, 8010 Graz
END:VEVENT
BEGIN:VEVENT
DTSTAMP:20260421T184411
DTSTART;TZID=Europe/Berlin:20260603T171500
DTEND;TZID=Europe/Berlin:20260603T184500
UID:T352-20260603T171500@URANIAGRAZ
SUMMARY:Kreatives Schreiben -- Vom ersten Satz bis zur Veröffentlichung (T352) 
LOCATION:URANIA, Hauptplatz 16-17/II, Kursraum 02 "Merkur", Hauptplatz 16-17, 8010 Graz
END:VEVENT
BEGIN:VEVENT
DTSTAMP:20260421T184411
DTSTART;TZID=Europe/Berlin:20260610T171500
DTEND;TZID=Europe/Berlin:20260610T184500
UID:T352-20260610T171500@URANIAGRAZ
SUMMARY:Kreatives Schreiben -- Vom ersten Satz bis zur Veröffentlichung (T352) 
LOCATION:URANIA, Hauptplatz 16-17/II, Kursraum 02 "Merkur", Hauptplatz 16-17, 8010 Graz
END:VEVENT
BEGIN:VEVENT
DTSTAMP:20260421T184411
DTSTART;TZID=Europe/Berlin:20260624T171500
DTEND;TZID=Europe/Berlin:20260624T184500
UID:T352-20260624T171500@URANIAGRAZ
SUMMARY:Kreatives Schreiben -- Vom ersten Satz bis zur Veröffentlichung (T352) 
LOCATION:URANIA, Hauptplatz 16-17/II, Kursraum 02 "Merkur", Hauptplatz 16-17, 8010 Graz
END:VEVENT
BEGIN:VEVENT
DTSTAMP:20260421T184411
DTSTART;TZID=Europe/Berlin:20260701T171500
DTEND;TZID=Europe/Berlin:20260701T184500
UID:T352-20260701T171500@URANIAGRAZ
SUMMARY:Kreatives Schreiben -- Vom ersten Satz bis zur Veröffentlichung (T352) 
LOCATION:URANIA, Hauptplatz 16-17/II, Kursraum 02 "Merkur", Hauptplatz 16-17, 8010 Graz
END:VEVENT
END:VCALENDAR