BEGIN:VCALENDAR
VERSION:2.0
PRODID:https://www.kufer.de/kuferweb / DE
METHOD:PUBLISH
CALSCALE:GREGORIAN
X-WR-TIMEZONE:Europe/Berlin
BEGIN:VTIMEZONE
TZID:Europe/Berlin
X-LIC-LOCATION:Europe/Berlin
BEGIN:DAYLIGHT
TZOFFSETFROM:+0100
TZOFFSETTO:+0200
TZNAME:CEST
DTSTART:19700329T020000
RRULE:FREQ=YEARLY;INTERVAL=1;BYDAY=-1SU;BYMONTH=3
END:DAYLIGHT
BEGIN:STANDARD
TZOFFSETFROM:+0200
TZOFFSETTO:+0100
TZNAME:CET
DTSTART:19701025T030000
RRULE:FREQ=YEARLY;INTERVAL=1;BYDAY=-1SU;BYMONTH=10
END:STANDARD
END:VTIMEZONE
BEGIN:VEVENT
DTSTAMP:20260421T220659
DTSTART;TZID=Europe/Berlin:20260415T181500
DTEND;TZID=Europe/Berlin:20260415T194500
UID:T400-20260415T181500@URANIAGRAZ
SUMMARY:Feldenkrais-Methode Bewusstheit durch Bewegung (T400) 
LOCATION:URANIA, Hauptplatz 16-17/II, Kursraum 15 "Helios", Hauptplatz 16-17/2. Stock, 8010 Graz
END:VEVENT
BEGIN:VEVENT
DTSTAMP:20260421T220659
DTSTART;TZID=Europe/Berlin:20260422T181500
DTEND;TZID=Europe/Berlin:20260422T194500
UID:T400-20260422T181500@URANIAGRAZ
SUMMARY:Feldenkrais-Methode Bewusstheit durch Bewegung (T400) 
LOCATION:URANIA, Hauptplatz 16-17/II, Kursraum 15 "Helios", Hauptplatz 16-17/2. Stock, 8010 Graz
END:VEVENT
BEGIN:VEVENT
DTSTAMP:20260421T220659
DTSTART;TZID=Europe/Berlin:20260429T181500
DTEND;TZID=Europe/Berlin:20260429T194500
UID:T400-20260429T181500@URANIAGRAZ
SUMMARY:Feldenkrais-Methode Bewusstheit durch Bewegung (T400) 
LOCATION:URANIA, Hauptplatz 16-17/II, Kursraum 15 "Helios", Hauptplatz 16-17/2. Stock, 8010 Graz
END:VEVENT
BEGIN:VEVENT
DTSTAMP:20260421T220659
DTSTART;TZID=Europe/Berlin:20260506T181500
DTEND;TZID=Europe/Berlin:20260506T194500
UID:T400-20260506T181500@URANIAGRAZ
SUMMARY:Feldenkrais-Methode Bewusstheit durch Bewegung (T400) 
LOCATION:URANIA, Hauptplatz 16-17/II, Kursraum 15 "Helios", Hauptplatz 16-17/2. Stock, 8010 Graz
END:VEVENT
BEGIN:VEVENT
DTSTAMP:20260421T220659
DTSTART;TZID=Europe/Berlin:20260513T181500
DTEND;TZID=Europe/Berlin:20260513T194500
UID:T400-20260513T181500@URANIAGRAZ
SUMMARY:Feldenkrais-Methode Bewusstheit durch Bewegung (T400) 
LOCATION:URANIA, Hauptplatz 16-17/II, Kursraum 15 "Helios", Hauptplatz 16-17/2. Stock, 8010 Graz
END:VEVENT
BEGIN:VEVENT
DTSTAMP:20260421T220659
DTSTART;TZID=Europe/Berlin:20260520T181500
DTEND;TZID=Europe/Berlin:20260520T194500
UID:T400-20260520T181500@URANIAGRAZ
SUMMARY:Feldenkrais-Methode Bewusstheit durch Bewegung (T400) 
LOCATION:URANIA, Hauptplatz 16-17/II, Kursraum 15 "Helios", Hauptplatz 16-17/2. Stock, 8010 Graz
END:VEVENT
BEGIN:VEVENT
DTSTAMP:20260421T220659
DTSTART;TZID=Europe/Berlin:20260527T181500
DTEND;TZID=Europe/Berlin:20260527T194500
UID:T400-20260527T181500@URANIAGRAZ
SUMMARY:Feldenkrais-Methode Bewusstheit durch Bewegung (T400) 
LOCATION:URANIA, Hauptplatz 16-17/II, Kursraum 15 "Helios", Hauptplatz 16-17/2. Stock, 8010 Graz
END:VEVENT
BEGIN:VEVENT
DTSTAMP:20260421T220659
DTSTART;TZID=Europe/Berlin:20260603T181500
DTEND;TZID=Europe/Berlin:20260603T194500
UID:T400-20260603T181500@URANIAGRAZ
SUMMARY:Feldenkrais-Methode Bewusstheit durch Bewegung (T400) 
LOCATION:URANIA, Hauptplatz 16-17/II, Kursraum 15 "Helios", Hauptplatz 16-17/2. Stock, 8010 Graz
END:VEVENT
BEGIN:VEVENT
DTSTAMP:20260421T220659
DTSTART;TZID=Europe/Berlin:20260610T181500
DTEND;TZID=Europe/Berlin:20260610T194500
UID:T400-20260610T181500@URANIAGRAZ
SUMMARY:Feldenkrais-Methode Bewusstheit durch Bewegung (T400) 
LOCATION:URANIA, Hauptplatz 16-17/II, Kursraum 15 "Helios", Hauptplatz 16-17/2. Stock, 8010 Graz
END:VEVENT
BEGIN:VEVENT
DTSTAMP:20260421T220659
DTSTART;TZID=Europe/Berlin:20260617T181500
DTEND;TZID=Europe/Berlin:20260617T194500
UID:T400-20260617T181500@URANIAGRAZ
SUMMARY:Feldenkrais-Methode Bewusstheit durch Bewegung (T400) 
LOCATION:URANIA, Hauptplatz 16-17/II, Kursraum 15 "Helios", Hauptplatz 16-17/2. Stock, 8010 Graz
END:VEVENT
END:VCALENDAR