BEGIN:VCALENDAR
VERSION:2.0
PRODID:https://www.kufer.de/kuferweb / DE
METHOD:PUBLISH
CALSCALE:GREGORIAN
X-WR-TIMEZONE:Europe/Berlin
BEGIN:VTIMEZONE
TZID:Europe/Berlin
X-LIC-LOCATION:Europe/Berlin
BEGIN:DAYLIGHT
TZOFFSETFROM:+0100
TZOFFSETTO:+0200
TZNAME:CEST
DTSTART:19700329T020000
RRULE:FREQ=YEARLY;INTERVAL=1;BYDAY=-1SU;BYMONTH=3
END:DAYLIGHT
BEGIN:STANDARD
TZOFFSETFROM:+0200
TZOFFSETTO:+0100
TZNAME:CET
DTSTART:19701025T030000
RRULE:FREQ=YEARLY;INTERVAL=1;BYDAY=-1SU;BYMONTH=10
END:STANDARD
END:VTIMEZONE
BEGIN:VEVENT
DTSTAMP:20260422T042545
DTSTART;TZID=Europe/Berlin:20260409T154500
DTEND;TZID=Europe/Berlin:20260409T164500
UID:T402-20260409T154500@URANIAGRAZ
SUMMARY:Yoga und Entspannung (T402) 
LOCATION:URANIA, Hauptplatz 16-17/II, Kursraum 15 "Helios", Hauptplatz 16-17/2. Stock, 8010 Graz
END:VEVENT
BEGIN:VEVENT
DTSTAMP:20260422T042545
DTSTART;TZID=Europe/Berlin:20260416T154500
DTEND;TZID=Europe/Berlin:20260416T164500
UID:T402-20260416T154500@URANIAGRAZ
SUMMARY:Yoga und Entspannung (T402) 
LOCATION:URANIA, Hauptplatz 16-17/II, Kursraum 15 "Helios", Hauptplatz 16-17/2. Stock, 8010 Graz
END:VEVENT
BEGIN:VEVENT
DTSTAMP:20260422T042545
DTSTART;TZID=Europe/Berlin:20260423T154500
DTEND;TZID=Europe/Berlin:20260423T164500
UID:T402-20260423T154500@URANIAGRAZ
SUMMARY:Yoga und Entspannung (T402) 
LOCATION:URANIA, Hauptplatz 16-17/II, Kursraum 15 "Helios", Hauptplatz 16-17/2. Stock, 8010 Graz
END:VEVENT
BEGIN:VEVENT
DTSTAMP:20260422T042545
DTSTART;TZID=Europe/Berlin:20260430T154500
DTEND;TZID=Europe/Berlin:20260430T164500
UID:T402-20260430T154500@URANIAGRAZ
SUMMARY:Yoga und Entspannung (T402) 
LOCATION:URANIA, Hauptplatz 16-17/II, Kursraum 15 "Helios", Hauptplatz 16-17/2. Stock, 8010 Graz
END:VEVENT
BEGIN:VEVENT
DTSTAMP:20260422T042545
DTSTART;TZID=Europe/Berlin:20260507T154500
DTEND;TZID=Europe/Berlin:20260507T164500
UID:T402-20260507T154500@URANIAGRAZ
SUMMARY:Yoga und Entspannung (T402) 
LOCATION:URANIA, Hauptplatz 16-17/II, Kursraum 15 "Helios", Hauptplatz 16-17/2. Stock, 8010 Graz
END:VEVENT
BEGIN:VEVENT
DTSTAMP:20260422T042545
DTSTART;TZID=Europe/Berlin:20260521T154500
DTEND;TZID=Europe/Berlin:20260521T164500
UID:T402-20260521T154500@URANIAGRAZ
SUMMARY:Yoga und Entspannung (T402) 
LOCATION:URANIA, Hauptplatz 16-17/II, Kursraum 15 "Helios", Hauptplatz 16-17/2. Stock, 8010 Graz
END:VEVENT
BEGIN:VEVENT
DTSTAMP:20260422T042545
DTSTART;TZID=Europe/Berlin:20260528T154500
DTEND;TZID=Europe/Berlin:20260528T164500
UID:T402-20260528T154500@URANIAGRAZ
SUMMARY:Yoga und Entspannung (T402) 
LOCATION:URANIA, Hauptplatz 16-17/II, Kursraum 15 "Helios", Hauptplatz 16-17/2. Stock, 8010 Graz
END:VEVENT
BEGIN:VEVENT
DTSTAMP:20260422T042545
DTSTART;TZID=Europe/Berlin:20260611T154500
DTEND;TZID=Europe/Berlin:20260611T164500
UID:T402-20260611T154500@URANIAGRAZ
SUMMARY:Yoga und Entspannung (T402) 
LOCATION:URANIA, Hauptplatz 16-17/II, Kursraum 15 "Helios", Hauptplatz 16-17/2. Stock, 8010 Graz
END:VEVENT
BEGIN:VEVENT
DTSTAMP:20260422T042545
DTSTART;TZID=Europe/Berlin:20260618T154500
DTEND;TZID=Europe/Berlin:20260618T164500
UID:T402-20260618T154500@URANIAGRAZ
SUMMARY:Yoga und Entspannung (T402) 
LOCATION:URANIA, Hauptplatz 16-17/II, Kursraum 15 "Helios", Hauptplatz 16-17/2. Stock, 8010 Graz
END:VEVENT
BEGIN:VEVENT
DTSTAMP:20260422T042545
DTSTART;TZID=Europe/Berlin:20260625T154500
DTEND;TZID=Europe/Berlin:20260625T164500
UID:T402-20260625T154500@URANIAGRAZ
SUMMARY:Yoga und Entspannung (T402) 
LOCATION:URANIA, Hauptplatz 16-17/II, Kursraum 15 "Helios", Hauptplatz 16-17/2. Stock, 8010 Graz
END:VEVENT
END:VCALENDAR