BEGIN:VCALENDAR
VERSION:2.0
PRODID:https://www.kufer.de/kuferweb / DE
METHOD:PUBLISH
CALSCALE:GREGORIAN
X-WR-TIMEZONE:Europe/Berlin
BEGIN:VTIMEZONE
TZID:Europe/Berlin
X-LIC-LOCATION:Europe/Berlin
BEGIN:DAYLIGHT
TZOFFSETFROM:+0100
TZOFFSETTO:+0200
TZNAME:CEST
DTSTART:19700329T020000
RRULE:FREQ=YEARLY;INTERVAL=1;BYDAY=-1SU;BYMONTH=3
END:DAYLIGHT
BEGIN:STANDARD
TZOFFSETFROM:+0200
TZOFFSETTO:+0100
TZNAME:CET
DTSTART:19701025T030000
RRULE:FREQ=YEARLY;INTERVAL=1;BYDAY=-1SU;BYMONTH=10
END:STANDARD
END:VTIMEZONE
BEGIN:VEVENT
DTSTAMP:20260422T042605
DTSTART;TZID=Europe/Berlin:20260415T140000
DTEND;TZID=Europe/Berlin:20260415T153000
UID:T405-20260415T140000@URANIAGRAZ
SUMMARY:Yoga der Achtsamkeit Für 55plus (T405) 
LOCATION:URANIA, Hauptplatz 16-17/II, Kursraum 15 "Helios", Hauptplatz 16-17/2. Stock, 8010 Graz
END:VEVENT
BEGIN:VEVENT
DTSTAMP:20260422T042605
DTSTART;TZID=Europe/Berlin:20260422T140000
DTEND;TZID=Europe/Berlin:20260422T153000
UID:T405-20260422T140000@URANIAGRAZ
SUMMARY:Yoga der Achtsamkeit Für 55plus (T405) 
LOCATION:URANIA, Hauptplatz 16-17/II, Kursraum 15 "Helios", Hauptplatz 16-17/2. Stock, 8010 Graz
END:VEVENT
BEGIN:VEVENT
DTSTAMP:20260422T042605
DTSTART;TZID=Europe/Berlin:20260429T140000
DTEND;TZID=Europe/Berlin:20260429T153000
UID:T405-20260429T140000@URANIAGRAZ
SUMMARY:Yoga der Achtsamkeit Für 55plus (T405) 
LOCATION:URANIA, Hauptplatz 16-17/II, Kursraum 15 "Helios", Hauptplatz 16-17/2. Stock, 8010 Graz
END:VEVENT
BEGIN:VEVENT
DTSTAMP:20260422T042605
DTSTART;TZID=Europe/Berlin:20260506T140000
DTEND;TZID=Europe/Berlin:20260506T153000
UID:T405-20260506T140000@URANIAGRAZ
SUMMARY:Yoga der Achtsamkeit Für 55plus (T405) 
LOCATION:URANIA, Hauptplatz 16-17/II, Kursraum 15 "Helios", Hauptplatz 16-17/2. Stock, 8010 Graz
END:VEVENT
BEGIN:VEVENT
DTSTAMP:20260422T042605
DTSTART;TZID=Europe/Berlin:20260513T140000
DTEND;TZID=Europe/Berlin:20260513T153000
UID:T405-20260513T140000@URANIAGRAZ
SUMMARY:Yoga der Achtsamkeit Für 55plus (T405) 
LOCATION:URANIA, Hauptplatz 16-17/II, Kursraum 15 "Helios", Hauptplatz 16-17/2. Stock, 8010 Graz
END:VEVENT
BEGIN:VEVENT
DTSTAMP:20260422T042605
DTSTART;TZID=Europe/Berlin:20260520T140000
DTEND;TZID=Europe/Berlin:20260520T153000
UID:T405-20260520T140000@URANIAGRAZ
SUMMARY:Yoga der Achtsamkeit Für 55plus (T405) 
LOCATION:URANIA, Hauptplatz 16-17/II, Kursraum 15 "Helios", Hauptplatz 16-17/2. Stock, 8010 Graz
END:VEVENT
BEGIN:VEVENT
DTSTAMP:20260422T042605
DTSTART;TZID=Europe/Berlin:20260527T140000
DTEND;TZID=Europe/Berlin:20260527T153000
UID:T405-20260527T140000@URANIAGRAZ
SUMMARY:Yoga der Achtsamkeit Für 55plus (T405) 
LOCATION:URANIA, Hauptplatz 16-17/II, Kursraum 15 "Helios", Hauptplatz 16-17/2. Stock, 8010 Graz
END:VEVENT
BEGIN:VEVENT
DTSTAMP:20260422T042605
DTSTART;TZID=Europe/Berlin:20260603T140000
DTEND;TZID=Europe/Berlin:20260603T153000
UID:T405-20260603T140000@URANIAGRAZ
SUMMARY:Yoga der Achtsamkeit Für 55plus (T405) 
LOCATION:URANIA, Hauptplatz 16-17/II, Kursraum 15 "Helios", Hauptplatz 16-17/2. Stock, 8010 Graz
END:VEVENT
BEGIN:VEVENT
DTSTAMP:20260422T042605
DTSTART;TZID=Europe/Berlin:20260610T140000
DTEND;TZID=Europe/Berlin:20260610T153000
UID:T405-20260610T140000@URANIAGRAZ
SUMMARY:Yoga der Achtsamkeit Für 55plus (T405) 
LOCATION:URANIA, Hauptplatz 16-17/II, Kursraum 15 "Helios", Hauptplatz 16-17/2. Stock, 8010 Graz
END:VEVENT
BEGIN:VEVENT
DTSTAMP:20260422T042605
DTSTART;TZID=Europe/Berlin:20260617T140000
DTEND;TZID=Europe/Berlin:20260617T153000
UID:T405-20260617T140000@URANIAGRAZ
SUMMARY:Yoga der Achtsamkeit Für 55plus (T405) 
LOCATION:URANIA, Hauptplatz 16-17/II, Kursraum 15 "Helios", Hauptplatz 16-17/2. Stock, 8010 Graz
END:VEVENT
END:VCALENDAR