BEGIN:VCALENDAR
VERSION:2.0
PRODID:https://www.kufer.de/kuferweb / DE
METHOD:PUBLISH
CALSCALE:GREGORIAN
X-WR-TIMEZONE:Europe/Berlin
BEGIN:VTIMEZONE
TZID:Europe/Berlin
X-LIC-LOCATION:Europe/Berlin
BEGIN:DAYLIGHT
TZOFFSETFROM:+0100
TZOFFSETTO:+0200
TZNAME:CEST
DTSTART:19700329T020000
RRULE:FREQ=YEARLY;INTERVAL=1;BYDAY=-1SU;BYMONTH=3
END:DAYLIGHT
BEGIN:STANDARD
TZOFFSETFROM:+0200
TZOFFSETTO:+0100
TZNAME:CET
DTSTART:19701025T030000
RRULE:FREQ=YEARLY;INTERVAL=1;BYDAY=-1SU;BYMONTH=10
END:STANDARD
END:VTIMEZONE
BEGIN:VEVENT
DTSTAMP:20260422T042610
DTSTART;TZID=Europe/Berlin:20260413T183000
DTEND;TZID=Europe/Berlin:20260413T193000
UID:T406-20260413T183000@URANIAGRAZ
SUMMARY:Yin Yoga in English (T406) 
LOCATION:URANIA, Hauptplatz 16-17/II, Kursraum 15 "Helios", Hauptplatz 16-17/2. Stock, 8010 Graz
END:VEVENT
BEGIN:VEVENT
DTSTAMP:20260422T042610
DTSTART;TZID=Europe/Berlin:20260420T183000
DTEND;TZID=Europe/Berlin:20260420T193000
UID:T406-20260420T183000@URANIAGRAZ
SUMMARY:Yin Yoga in English (T406) 
LOCATION:URANIA, Hauptplatz 16-17/II, Kursraum 15 "Helios", Hauptplatz 16-17/2. Stock, 8010 Graz
END:VEVENT
BEGIN:VEVENT
DTSTAMP:20260422T042610
DTSTART;TZID=Europe/Berlin:20260427T183000
DTEND;TZID=Europe/Berlin:20260427T193000
UID:T406-20260427T183000@URANIAGRAZ
SUMMARY:Yin Yoga in English (T406) 
LOCATION:URANIA, Hauptplatz 16-17/II, Kursraum 15 "Helios", Hauptplatz 16-17/2. Stock, 8010 Graz
END:VEVENT
BEGIN:VEVENT
DTSTAMP:20260422T042610
DTSTART;TZID=Europe/Berlin:20260504T183000
DTEND;TZID=Europe/Berlin:20260504T193000
UID:T406-20260504T183000@URANIAGRAZ
SUMMARY:Yin Yoga in English (T406) 
LOCATION:URANIA, Hauptplatz 16-17/II, Kursraum 15 "Helios", Hauptplatz 16-17/2. Stock, 8010 Graz
END:VEVENT
BEGIN:VEVENT
DTSTAMP:20260422T042610
DTSTART;TZID=Europe/Berlin:20260511T183000
DTEND;TZID=Europe/Berlin:20260511T193000
UID:T406-20260511T183000@URANIAGRAZ
SUMMARY:Yin Yoga in English (T406) 
LOCATION:URANIA, Hauptplatz 16-17/II, Kursraum 15 "Helios", Hauptplatz 16-17/2. Stock, 8010 Graz
END:VEVENT
BEGIN:VEVENT
DTSTAMP:20260422T042610
DTSTART;TZID=Europe/Berlin:20260518T183000
DTEND;TZID=Europe/Berlin:20260518T193000
UID:T406-20260518T183000@URANIAGRAZ
SUMMARY:Yin Yoga in English (T406) 
LOCATION:URANIA, Hauptplatz 16-17/II, Kursraum 15 "Helios", Hauptplatz 16-17/2. Stock, 8010 Graz
END:VEVENT
BEGIN:VEVENT
DTSTAMP:20260422T042610
DTSTART;TZID=Europe/Berlin:20260601T183000
DTEND;TZID=Europe/Berlin:20260601T193000
UID:T406-20260601T183000@URANIAGRAZ
SUMMARY:Yin Yoga in English (T406) 
LOCATION:URANIA, Hauptplatz 16-17/II, Kursraum 15 "Helios", Hauptplatz 16-17/2. Stock, 8010 Graz
END:VEVENT
BEGIN:VEVENT
DTSTAMP:20260422T042610
DTSTART;TZID=Europe/Berlin:20260608T183000
DTEND;TZID=Europe/Berlin:20260608T193000
UID:T406-20260608T183000@URANIAGRAZ
SUMMARY:Yin Yoga in English (T406) 
LOCATION:URANIA, Hauptplatz 16-17/II, Kursraum 15 "Helios", Hauptplatz 16-17/2. Stock, 8010 Graz
END:VEVENT
BEGIN:VEVENT
DTSTAMP:20260422T042610
DTSTART;TZID=Europe/Berlin:20260615T183000
DTEND;TZID=Europe/Berlin:20260615T193000
UID:T406-20260615T183000@URANIAGRAZ
SUMMARY:Yin Yoga in English (T406) 
LOCATION:URANIA, Hauptplatz 16-17/II, Kursraum 15 "Helios", Hauptplatz 16-17/2. Stock, 8010 Graz
END:VEVENT
BEGIN:VEVENT
DTSTAMP:20260422T042610
DTSTART;TZID=Europe/Berlin:20260622T183000
DTEND;TZID=Europe/Berlin:20260622T193000
UID:T406-20260622T183000@URANIAGRAZ
SUMMARY:Yin Yoga in English (T406) 
LOCATION:URANIA, Hauptplatz 16-17/II, Kursraum 15 "Helios", Hauptplatz 16-17/2. Stock, 8010 Graz
END:VEVENT
END:VCALENDAR