BEGIN:VCALENDAR
VERSION:2.0
PRODID:https://www.kufer.de/kuferweb / DE
METHOD:PUBLISH
CALSCALE:GREGORIAN
X-WR-TIMEZONE:Europe/Berlin
BEGIN:VTIMEZONE
TZID:Europe/Berlin
X-LIC-LOCATION:Europe/Berlin
BEGIN:DAYLIGHT
TZOFFSETFROM:+0100
TZOFFSETTO:+0200
TZNAME:CEST
DTSTART:19700329T020000
RRULE:FREQ=YEARLY;INTERVAL=1;BYDAY=-1SU;BYMONTH=3
END:DAYLIGHT
BEGIN:STANDARD
TZOFFSETFROM:+0200
TZOFFSETTO:+0100
TZNAME:CET
DTSTART:19701025T030000
RRULE:FREQ=YEARLY;INTERVAL=1;BYDAY=-1SU;BYMONTH=10
END:STANDARD
END:VTIMEZONE
BEGIN:VEVENT
DTSTAMP:20260421T201828
DTSTART;TZID=Europe/Berlin:20260408T100000
DTEND;TZID=Europe/Berlin:20260408T120000
UID:T600-20260408T100000@URANIAGRAZ
SUMMARY:Beratung für Sprachkurse. Die Urania bietet Sprachkurse in 19 Sprachen an. (T600) 
LOCATION:URANIA, Hauptplatz 16-17/II, Kursraum 01 "Europa", Hauptplatz 16-17, 8010 Graz
END:VEVENT
END:VCALENDAR