BEGIN:VCALENDAR
VERSION:2.0
PRODID:https://www.kufer.de/kuferweb / DE
METHOD:PUBLISH
CALSCALE:GREGORIAN
X-WR-TIMEZONE:Europe/Berlin
BEGIN:VTIMEZONE
TZID:Europe/Berlin
X-LIC-LOCATION:Europe/Berlin
BEGIN:DAYLIGHT
TZOFFSETFROM:+0100
TZOFFSETTO:+0200
TZNAME:CEST
DTSTART:19700329T020000
RRULE:FREQ=YEARLY;INTERVAL=1;BYDAY=-1SU;BYMONTH=3
END:DAYLIGHT
BEGIN:STANDARD
TZOFFSETFROM:+0200
TZOFFSETTO:+0100
TZNAME:CET
DTSTART:19701025T030000
RRULE:FREQ=YEARLY;INTERVAL=1;BYDAY=-1SU;BYMONTH=10
END:STANDARD
END:VTIMEZONE
BEGIN:VEVENT
DTSTAMP:20260420T204935
DTSTART;TZID=Europe/Berlin:20260706T090000
DTEND;TZID=Europe/Berlin:20260706T103000
UID:T601-20260706T090000@URANIAGRAZ
SUMMARY:Let's learn English! (A1--A1.2) -- Intensivkurs Ein Kurs für Lernende ohne oder mit geringen Sprachkenntnissen. (T601) 
LOCATION:URANIA, Hauptplatz 16-17/II, Kursraum 09 "Jupiter", Hauptplatz 16-17/2. Stock, 8010 Graz
END:VEVENT
BEGIN:VEVENT
DTSTAMP:20260420T204935
DTSTART;TZID=Europe/Berlin:20260707T090000
DTEND;TZID=Europe/Berlin:20260707T103000
UID:T601-20260707T090000@URANIAGRAZ
SUMMARY:Let's learn English! (A1--A1.2) -- Intensivkurs Ein Kurs für Lernende ohne oder mit geringen Sprachkenntnissen. (T601) 
LOCATION:URANIA, Hauptplatz 16-17/II, Kursraum 09 "Jupiter", Hauptplatz 16-17/2. Stock, 8010 Graz
END:VEVENT
BEGIN:VEVENT
DTSTAMP:20260420T204935
DTSTART;TZID=Europe/Berlin:20260708T090000
DTEND;TZID=Europe/Berlin:20260708T103000
UID:T601-20260708T090000@URANIAGRAZ
SUMMARY:Let's learn English! (A1--A1.2) -- Intensivkurs Ein Kurs für Lernende ohne oder mit geringen Sprachkenntnissen. (T601) 
LOCATION:URANIA, Hauptplatz 16-17/II, Kursraum 09 "Jupiter", Hauptplatz 16-17/2. Stock, 8010 Graz
END:VEVENT
BEGIN:VEVENT
DTSTAMP:20260420T204935
DTSTART;TZID=Europe/Berlin:20260709T090000
DTEND;TZID=Europe/Berlin:20260709T103000
UID:T601-20260709T090000@URANIAGRAZ
SUMMARY:Let's learn English! (A1--A1.2) -- Intensivkurs Ein Kurs für Lernende ohne oder mit geringen Sprachkenntnissen. (T601) 
LOCATION:URANIA, Hauptplatz 16-17/II, Kursraum 09 "Jupiter", Hauptplatz 16-17/2. Stock, 8010 Graz
END:VEVENT
BEGIN:VEVENT
DTSTAMP:20260420T204935
DTSTART;TZID=Europe/Berlin:20260710T090000
DTEND;TZID=Europe/Berlin:20260710T103000
UID:T601-20260710T090000@URANIAGRAZ
SUMMARY:Let's learn English! (A1--A1.2) -- Intensivkurs Ein Kurs für Lernende ohne oder mit geringen Sprachkenntnissen. (T601) 
LOCATION:URANIA, Hauptplatz 16-17/II, Kursraum 09 "Jupiter", Hauptplatz 16-17/2. Stock, 8010 Graz
END:VEVENT
BEGIN:VEVENT
DTSTAMP:20260420T204935
DTSTART;TZID=Europe/Berlin:20260713T090000
DTEND;TZID=Europe/Berlin:20260713T103000
UID:T601-20260713T090000@URANIAGRAZ
SUMMARY:Let's learn English! (A1--A1.2) -- Intensivkurs Ein Kurs für Lernende ohne oder mit geringen Sprachkenntnissen. (T601) 
LOCATION:URANIA, Hauptplatz 16-17/II, Kursraum 09 "Jupiter", Hauptplatz 16-17/2. Stock, 8010 Graz
END:VEVENT
BEGIN:VEVENT
DTSTAMP:20260420T204935
DTSTART;TZID=Europe/Berlin:20260714T090000
DTEND;TZID=Europe/Berlin:20260714T103000
UID:T601-20260714T090000@URANIAGRAZ
SUMMARY:Let's learn English! (A1--A1.2) -- Intensivkurs Ein Kurs für Lernende ohne oder mit geringen Sprachkenntnissen. (T601) 
LOCATION:URANIA, Hauptplatz 16-17/II, Kursraum 09 "Jupiter", Hauptplatz 16-17/2. Stock, 8010 Graz
END:VEVENT
BEGIN:VEVENT
DTSTAMP:20260420T204935
DTSTART;TZID=Europe/Berlin:20260715T090000
DTEND;TZID=Europe/Berlin:20260715T103000
UID:T601-20260715T090000@URANIAGRAZ
SUMMARY:Let's learn English! (A1--A1.2) -- Intensivkurs Ein Kurs für Lernende ohne oder mit geringen Sprachkenntnissen. (T601) 
LOCATION:URANIA, Hauptplatz 16-17/II, Kursraum 09 "Jupiter", Hauptplatz 16-17/2. Stock, 8010 Graz
END:VEVENT
BEGIN:VEVENT
DTSTAMP:20260420T204935
DTSTART;TZID=Europe/Berlin:20260716T090000
DTEND;TZID=Europe/Berlin:20260716T103000
UID:T601-20260716T090000@URANIAGRAZ
SUMMARY:Let's learn English! (A1--A1.2) -- Intensivkurs Ein Kurs für Lernende ohne oder mit geringen Sprachkenntnissen. (T601) 
LOCATION:URANIA, Hauptplatz 16-17/II, Kursraum 09 "Jupiter", Hauptplatz 16-17/2. Stock, 8010 Graz
END:VEVENT
BEGIN:VEVENT
DTSTAMP:20260420T204935
DTSTART;TZID=Europe/Berlin:20260717T090000
DTEND;TZID=Europe/Berlin:20260717T103000
UID:T601-20260717T090000@URANIAGRAZ
SUMMARY:Let's learn English! (A1--A1.2) -- Intensivkurs Ein Kurs für Lernende ohne oder mit geringen Sprachkenntnissen. (T601) 
LOCATION:URANIA, Hauptplatz 16-17/II, Kursraum 09 "Jupiter", Hauptplatz 16-17/2. Stock, 8010 Graz
END:VEVENT
END:VCALENDAR