BEGIN:VCALENDAR
VERSION:2.0
PRODID:https://www.kufer.de/kuferweb / DE
METHOD:PUBLISH
CALSCALE:GREGORIAN
X-WR-TIMEZONE:Europe/Berlin
BEGIN:VTIMEZONE
TZID:Europe/Berlin
X-LIC-LOCATION:Europe/Berlin
BEGIN:DAYLIGHT
TZOFFSETFROM:+0100
TZOFFSETTO:+0200
TZNAME:CEST
DTSTART:19700329T020000
RRULE:FREQ=YEARLY;INTERVAL=1;BYDAY=-1SU;BYMONTH=3
END:DAYLIGHT
BEGIN:STANDARD
TZOFFSETFROM:+0200
TZOFFSETTO:+0100
TZNAME:CET
DTSTART:19701025T030000
RRULE:FREQ=YEARLY;INTERVAL=1;BYDAY=-1SU;BYMONTH=10
END:STANDARD
END:VTIMEZONE
BEGIN:VEVENT
DTSTAMP:20260421T183516
DTSTART;TZID=Europe/Berlin:20260706T104500
DTEND;TZID=Europe/Berlin:20260706T121500
UID:T602-20260706T104500@URANIAGRAZ
SUMMARY:Englisch: Intensive Language Training (A2--B1) -- Intensivkurs (T602) 
LOCATION:URANIA, Hauptplatz 16-17/II, Kursraum 09 "Jupiter", Hauptplatz 16-17/2. Stock, 8010 Graz
END:VEVENT
BEGIN:VEVENT
DTSTAMP:20260421T183516
DTSTART;TZID=Europe/Berlin:20260707T104500
DTEND;TZID=Europe/Berlin:20260707T121500
UID:T602-20260707T104500@URANIAGRAZ
SUMMARY:Englisch: Intensive Language Training (A2--B1) -- Intensivkurs (T602) 
LOCATION:URANIA, Hauptplatz 16-17/II, Kursraum 09 "Jupiter", Hauptplatz 16-17/2. Stock, 8010 Graz
END:VEVENT
BEGIN:VEVENT
DTSTAMP:20260421T183516
DTSTART;TZID=Europe/Berlin:20260708T104500
DTEND;TZID=Europe/Berlin:20260708T121500
UID:T602-20260708T104500@URANIAGRAZ
SUMMARY:Englisch: Intensive Language Training (A2--B1) -- Intensivkurs (T602) 
LOCATION:URANIA, Hauptplatz 16-17/II, Kursraum 09 "Jupiter", Hauptplatz 16-17/2. Stock, 8010 Graz
END:VEVENT
BEGIN:VEVENT
DTSTAMP:20260421T183516
DTSTART;TZID=Europe/Berlin:20260709T104500
DTEND;TZID=Europe/Berlin:20260709T121500
UID:T602-20260709T104500@URANIAGRAZ
SUMMARY:Englisch: Intensive Language Training (A2--B1) -- Intensivkurs (T602) 
LOCATION:URANIA, Hauptplatz 16-17/II, Kursraum 09 "Jupiter", Hauptplatz 16-17/2. Stock, 8010 Graz
END:VEVENT
BEGIN:VEVENT
DTSTAMP:20260421T183516
DTSTART;TZID=Europe/Berlin:20260710T104500
DTEND;TZID=Europe/Berlin:20260710T121500
UID:T602-20260710T104500@URANIAGRAZ
SUMMARY:Englisch: Intensive Language Training (A2--B1) -- Intensivkurs (T602) 
LOCATION:URANIA, Hauptplatz 16-17/II, Kursraum 09 "Jupiter", Hauptplatz 16-17/2. Stock, 8010 Graz
END:VEVENT
BEGIN:VEVENT
DTSTAMP:20260421T183516
DTSTART;TZID=Europe/Berlin:20260713T104500
DTEND;TZID=Europe/Berlin:20260713T121500
UID:T602-20260713T104500@URANIAGRAZ
SUMMARY:Englisch: Intensive Language Training (A2--B1) -- Intensivkurs (T602) 
LOCATION:URANIA, Hauptplatz 16-17/II, Kursraum 09 "Jupiter", Hauptplatz 16-17/2. Stock, 8010 Graz
END:VEVENT
BEGIN:VEVENT
DTSTAMP:20260421T183516
DTSTART;TZID=Europe/Berlin:20260714T104500
DTEND;TZID=Europe/Berlin:20260714T121500
UID:T602-20260714T104500@URANIAGRAZ
SUMMARY:Englisch: Intensive Language Training (A2--B1) -- Intensivkurs (T602) 
LOCATION:URANIA, Hauptplatz 16-17/II, Kursraum 09 "Jupiter", Hauptplatz 16-17/2. Stock, 8010 Graz
END:VEVENT
BEGIN:VEVENT
DTSTAMP:20260421T183516
DTSTART;TZID=Europe/Berlin:20260715T104500
DTEND;TZID=Europe/Berlin:20260715T121500
UID:T602-20260715T104500@URANIAGRAZ
SUMMARY:Englisch: Intensive Language Training (A2--B1) -- Intensivkurs (T602) 
LOCATION:URANIA, Hauptplatz 16-17/II, Kursraum 09 "Jupiter", Hauptplatz 16-17/2. Stock, 8010 Graz
END:VEVENT
BEGIN:VEVENT
DTSTAMP:20260421T183516
DTSTART;TZID=Europe/Berlin:20260716T104500
DTEND;TZID=Europe/Berlin:20260716T121500
UID:T602-20260716T104500@URANIAGRAZ
SUMMARY:Englisch: Intensive Language Training (A2--B1) -- Intensivkurs (T602) 
LOCATION:URANIA, Hauptplatz 16-17/II, Kursraum 09 "Jupiter", Hauptplatz 16-17/2. Stock, 8010 Graz
END:VEVENT
BEGIN:VEVENT
DTSTAMP:20260421T183516
DTSTART;TZID=Europe/Berlin:20260717T104500
DTEND;TZID=Europe/Berlin:20260717T121500
UID:T602-20260717T104500@URANIAGRAZ
SUMMARY:Englisch: Intensive Language Training (A2--B1) -- Intensivkurs (T602) 
LOCATION:URANIA, Hauptplatz 16-17/II, Kursraum 09 "Jupiter", Hauptplatz 16-17/2. Stock, 8010 Graz
END:VEVENT
END:VCALENDAR