BEGIN:VCALENDAR
VERSION:2.0
PRODID:https://www.kufer.de/kuferweb / DE
METHOD:PUBLISH
CALSCALE:GREGORIAN
X-WR-TIMEZONE:Europe/Berlin
BEGIN:VTIMEZONE
TZID:Europe/Berlin
X-LIC-LOCATION:Europe/Berlin
BEGIN:DAYLIGHT
TZOFFSETFROM:+0100
TZOFFSETTO:+0200
TZNAME:CEST
DTSTART:19700329T020000
RRULE:FREQ=YEARLY;INTERVAL=1;BYDAY=-1SU;BYMONTH=3
END:DAYLIGHT
BEGIN:STANDARD
TZOFFSETFROM:+0200
TZOFFSETTO:+0100
TZNAME:CET
DTSTART:19701025T030000
RRULE:FREQ=YEARLY;INTERVAL=1;BYDAY=-1SU;BYMONTH=10
END:STANDARD
END:VTIMEZONE
BEGIN:VEVENT
DTSTAMP:20260421T195758
DTSTART;TZID=Europe/Berlin:20260706T100000
DTEND;TZID=Europe/Berlin:20260706T130000
UID:T603-20260706T100000@URANIAGRAZ
SUMMARY:Französisch: Anfänger I (A1) -- Intensivkurs (T603) 
LOCATION:URANIA, Hauptplatz 16-17/II, Kursraum 03  "Mars", Hauptplatz 16-17, 8010 Graz
END:VEVENT
BEGIN:VEVENT
DTSTAMP:20260421T195758
DTSTART;TZID=Europe/Berlin:20260707T100000
DTEND;TZID=Europe/Berlin:20260707T130000
UID:T603-20260707T100000@URANIAGRAZ
SUMMARY:Französisch: Anfänger I (A1) -- Intensivkurs (T603) 
LOCATION:URANIA, Hauptplatz 16-17/II, Kursraum 03  "Mars", Hauptplatz 16-17, 8010 Graz
END:VEVENT
BEGIN:VEVENT
DTSTAMP:20260421T195758
DTSTART;TZID=Europe/Berlin:20260708T100000
DTEND;TZID=Europe/Berlin:20260708T130000
UID:T603-20260708T100000@URANIAGRAZ
SUMMARY:Französisch: Anfänger I (A1) -- Intensivkurs (T603) 
LOCATION:URANIA, Hauptplatz 16-17/II, Kursraum 03  "Mars", Hauptplatz 16-17, 8010 Graz
END:VEVENT
BEGIN:VEVENT
DTSTAMP:20260421T195758
DTSTART;TZID=Europe/Berlin:20260709T100000
DTEND;TZID=Europe/Berlin:20260709T130000
UID:T603-20260709T100000@URANIAGRAZ
SUMMARY:Französisch: Anfänger I (A1) -- Intensivkurs (T603) 
LOCATION:URANIA, Hauptplatz 16-17/II, Kursraum 03  "Mars", Hauptplatz 16-17, 8010 Graz
END:VEVENT
BEGIN:VEVENT
DTSTAMP:20260421T195758
DTSTART;TZID=Europe/Berlin:20260710T100000
DTEND;TZID=Europe/Berlin:20260710T130000
UID:T603-20260710T100000@URANIAGRAZ
SUMMARY:Französisch: Anfänger I (A1) -- Intensivkurs (T603) 
LOCATION:URANIA, Hauptplatz 16-17/II, Kursraum 03  "Mars", Hauptplatz 16-17, 8010 Graz
END:VEVENT
END:VCALENDAR