BEGIN:VCALENDAR
VERSION:2.0
PRODID:https://www.kufer.de/kuferweb / DE
METHOD:PUBLISH
CALSCALE:GREGORIAN
X-WR-TIMEZONE:Europe/Berlin
BEGIN:VTIMEZONE
TZID:Europe/Berlin
X-LIC-LOCATION:Europe/Berlin
BEGIN:DAYLIGHT
TZOFFSETFROM:+0100
TZOFFSETTO:+0200
TZNAME:CEST
DTSTART:19700329T020000
RRULE:FREQ=YEARLY;INTERVAL=1;BYDAY=-1SU;BYMONTH=3
END:DAYLIGHT
BEGIN:STANDARD
TZOFFSETFROM:+0200
TZOFFSETTO:+0100
TZNAME:CET
DTSTART:19701025T030000
RRULE:FREQ=YEARLY;INTERVAL=1;BYDAY=-1SU;BYMONTH=10
END:STANDARD
END:VTIMEZONE
BEGIN:VEVENT
DTSTAMP:20260420T192850
DTSTART;TZID=Europe/Berlin:20260706T101500
DTEND;TZID=Europe/Berlin:20260706T114500
UID:T606-20260706T101500@URANIAGRAZ
SUMMARY:Italienisch: Urlaubsitalienisch I (A1) -- Intensivkurs (T606) 
LOCATION:URANIA, Hauptplatz 16-17/II, Kursraum 01 "Europa", Hauptplatz 16-17, 8010 Graz
END:VEVENT
BEGIN:VEVENT
DTSTAMP:20260420T192850
DTSTART;TZID=Europe/Berlin:20260707T101500
DTEND;TZID=Europe/Berlin:20260707T114500
UID:T606-20260707T101500@URANIAGRAZ
SUMMARY:Italienisch: Urlaubsitalienisch I (A1) -- Intensivkurs (T606) 
LOCATION:URANIA, Hauptplatz 16-17/II, Kursraum 01 "Europa", Hauptplatz 16-17, 8010 Graz
END:VEVENT
BEGIN:VEVENT
DTSTAMP:20260420T192850
DTSTART;TZID=Europe/Berlin:20260708T101500
DTEND;TZID=Europe/Berlin:20260708T114500
UID:T606-20260708T101500@URANIAGRAZ
SUMMARY:Italienisch: Urlaubsitalienisch I (A1) -- Intensivkurs (T606) 
LOCATION:URANIA, Hauptplatz 16-17/II, Kursraum 01 "Europa", Hauptplatz 16-17, 8010 Graz
END:VEVENT
BEGIN:VEVENT
DTSTAMP:20260420T192850
DTSTART;TZID=Europe/Berlin:20260709T101500
DTEND;TZID=Europe/Berlin:20260709T114500
UID:T606-20260709T101500@URANIAGRAZ
SUMMARY:Italienisch: Urlaubsitalienisch I (A1) -- Intensivkurs (T606) 
LOCATION:URANIA, Hauptplatz 16-17/II, Kursraum 01 "Europa", Hauptplatz 16-17, 8010 Graz
END:VEVENT
BEGIN:VEVENT
DTSTAMP:20260420T192850
DTSTART;TZID=Europe/Berlin:20260710T101500
DTEND;TZID=Europe/Berlin:20260710T114500
UID:T606-20260710T101500@URANIAGRAZ
SUMMARY:Italienisch: Urlaubsitalienisch I (A1) -- Intensivkurs (T606) 
LOCATION:URANIA, Hauptplatz 16-17/II, Kursraum 01 "Europa", Hauptplatz 16-17, 8010 Graz
END:VEVENT
BEGIN:VEVENT
DTSTAMP:20260420T192850
DTSTART;TZID=Europe/Berlin:20260713T101500
DTEND;TZID=Europe/Berlin:20260713T114500
UID:T606-20260713T101500@URANIAGRAZ
SUMMARY:Italienisch: Urlaubsitalienisch I (A1) -- Intensivkurs (T606) 
LOCATION:URANIA, Hauptplatz 16-17/II, Kursraum 01 "Europa", Hauptplatz 16-17, 8010 Graz
END:VEVENT
BEGIN:VEVENT
DTSTAMP:20260420T192850
DTSTART;TZID=Europe/Berlin:20260714T101500
DTEND;TZID=Europe/Berlin:20260714T114500
UID:T606-20260714T101500@URANIAGRAZ
SUMMARY:Italienisch: Urlaubsitalienisch I (A1) -- Intensivkurs (T606) 
LOCATION:URANIA, Hauptplatz 16-17/II, Kursraum 01 "Europa", Hauptplatz 16-17, 8010 Graz
END:VEVENT
BEGIN:VEVENT
DTSTAMP:20260420T192850
DTSTART;TZID=Europe/Berlin:20260715T101500
DTEND;TZID=Europe/Berlin:20260715T114500
UID:T606-20260715T101500@URANIAGRAZ
SUMMARY:Italienisch: Urlaubsitalienisch I (A1) -- Intensivkurs (T606) 
LOCATION:URANIA, Hauptplatz 16-17/II, Kursraum 01 "Europa", Hauptplatz 16-17, 8010 Graz
END:VEVENT
BEGIN:VEVENT
DTSTAMP:20260420T192850
DTSTART;TZID=Europe/Berlin:20260716T101500
DTEND;TZID=Europe/Berlin:20260716T114500
UID:T606-20260716T101500@URANIAGRAZ
SUMMARY:Italienisch: Urlaubsitalienisch I (A1) -- Intensivkurs (T606) 
LOCATION:URANIA, Hauptplatz 16-17/II, Kursraum 01 "Europa", Hauptplatz 16-17, 8010 Graz
END:VEVENT
BEGIN:VEVENT
DTSTAMP:20260420T192850
DTSTART;TZID=Europe/Berlin:20260717T101500
DTEND;TZID=Europe/Berlin:20260717T114500
UID:T606-20260717T101500@URANIAGRAZ
SUMMARY:Italienisch: Urlaubsitalienisch I (A1) -- Intensivkurs (T606) 
LOCATION:URANIA, Hauptplatz 16-17/II, Kursraum 01 "Europa", Hauptplatz 16-17, 8010 Graz
END:VEVENT
END:VCALENDAR