BEGIN:VCALENDAR
VERSION:2.0
PRODID:https://www.kufer.de/kuferweb / DE
METHOD:PUBLISH
CALSCALE:GREGORIAN
X-WR-TIMEZONE:Europe/Berlin
BEGIN:VTIMEZONE
TZID:Europe/Berlin
X-LIC-LOCATION:Europe/Berlin
BEGIN:DAYLIGHT
TZOFFSETFROM:+0100
TZOFFSETTO:+0200
TZNAME:CEST
DTSTART:19700329T020000
RRULE:FREQ=YEARLY;INTERVAL=1;BYDAY=-1SU;BYMONTH=3
END:DAYLIGHT
BEGIN:STANDARD
TZOFFSETFROM:+0200
TZOFFSETTO:+0100
TZNAME:CET
DTSTART:19701025T030000
RRULE:FREQ=YEARLY;INTERVAL=1;BYDAY=-1SU;BYMONTH=10
END:STANDARD
END:VTIMEZONE
BEGIN:VEVENT
DTSTAMP:20260421T195748
DTSTART;TZID=Europe/Berlin:20260706T083000
DTEND;TZID=Europe/Berlin:20260706T100000
UID:T608-20260706T083000@URANIAGRAZ
SUMMARY:Italienisch: Urlaubsitalienisch III (A1.2) -- Intensivkurs (T608) 
LOCATION:URANIA, Hauptplatz 16-17/II, Kursraum 01 "Europa", Hauptplatz 16-17, 8010 Graz
END:VEVENT
BEGIN:VEVENT
DTSTAMP:20260421T195748
DTSTART;TZID=Europe/Berlin:20260707T083000
DTEND;TZID=Europe/Berlin:20260707T100000
UID:T608-20260707T083000@URANIAGRAZ
SUMMARY:Italienisch: Urlaubsitalienisch III (A1.2) -- Intensivkurs (T608) 
LOCATION:URANIA, Hauptplatz 16-17/II, Kursraum 01 "Europa", Hauptplatz 16-17, 8010 Graz
END:VEVENT
BEGIN:VEVENT
DTSTAMP:20260421T195748
DTSTART;TZID=Europe/Berlin:20260708T083000
DTEND;TZID=Europe/Berlin:20260708T100000
UID:T608-20260708T083000@URANIAGRAZ
SUMMARY:Italienisch: Urlaubsitalienisch III (A1.2) -- Intensivkurs (T608) 
LOCATION:URANIA, Hauptplatz 16-17/II, Kursraum 01 "Europa", Hauptplatz 16-17, 8010 Graz
END:VEVENT
BEGIN:VEVENT
DTSTAMP:20260421T195748
DTSTART;TZID=Europe/Berlin:20260709T083000
DTEND;TZID=Europe/Berlin:20260709T100000
UID:T608-20260709T083000@URANIAGRAZ
SUMMARY:Italienisch: Urlaubsitalienisch III (A1.2) -- Intensivkurs (T608) 
LOCATION:URANIA, Hauptplatz 16-17/II, Kursraum 01 "Europa", Hauptplatz 16-17, 8010 Graz
END:VEVENT
BEGIN:VEVENT
DTSTAMP:20260421T195748
DTSTART;TZID=Europe/Berlin:20260710T083000
DTEND;TZID=Europe/Berlin:20260710T100000
UID:T608-20260710T083000@URANIAGRAZ
SUMMARY:Italienisch: Urlaubsitalienisch III (A1.2) -- Intensivkurs (T608) 
LOCATION:URANIA, Hauptplatz 16-17/II, Kursraum 01 "Europa", Hauptplatz 16-17, 8010 Graz
END:VEVENT
BEGIN:VEVENT
DTSTAMP:20260421T195748
DTSTART;TZID=Europe/Berlin:20260713T083000
DTEND;TZID=Europe/Berlin:20260713T100000
UID:T608-20260713T083000@URANIAGRAZ
SUMMARY:Italienisch: Urlaubsitalienisch III (A1.2) -- Intensivkurs (T608) 
LOCATION:URANIA, Hauptplatz 16-17/II, Kursraum 01 "Europa", Hauptplatz 16-17, 8010 Graz
END:VEVENT
BEGIN:VEVENT
DTSTAMP:20260421T195748
DTSTART;TZID=Europe/Berlin:20260714T083000
DTEND;TZID=Europe/Berlin:20260714T100000
UID:T608-20260714T083000@URANIAGRAZ
SUMMARY:Italienisch: Urlaubsitalienisch III (A1.2) -- Intensivkurs (T608) 
LOCATION:URANIA, Hauptplatz 16-17/II, Kursraum 01 "Europa", Hauptplatz 16-17, 8010 Graz
END:VEVENT
BEGIN:VEVENT
DTSTAMP:20260421T195748
DTSTART;TZID=Europe/Berlin:20260715T083000
DTEND;TZID=Europe/Berlin:20260715T100000
UID:T608-20260715T083000@URANIAGRAZ
SUMMARY:Italienisch: Urlaubsitalienisch III (A1.2) -- Intensivkurs (T608) 
LOCATION:URANIA, Hauptplatz 16-17/II, Kursraum 01 "Europa", Hauptplatz 16-17, 8010 Graz
END:VEVENT
BEGIN:VEVENT
DTSTAMP:20260421T195748
DTSTART;TZID=Europe/Berlin:20260716T083000
DTEND;TZID=Europe/Berlin:20260716T100000
UID:T608-20260716T083000@URANIAGRAZ
SUMMARY:Italienisch: Urlaubsitalienisch III (A1.2) -- Intensivkurs (T608) 
LOCATION:URANIA, Hauptplatz 16-17/II, Kursraum 01 "Europa", Hauptplatz 16-17, 8010 Graz
END:VEVENT
BEGIN:VEVENT
DTSTAMP:20260421T195748
DTSTART;TZID=Europe/Berlin:20260717T083000
DTEND;TZID=Europe/Berlin:20260717T100000
UID:T608-20260717T083000@URANIAGRAZ
SUMMARY:Italienisch: Urlaubsitalienisch III (A1.2) -- Intensivkurs (T608) 
LOCATION:URANIA, Hauptplatz 16-17/II, Kursraum 01 "Europa", Hauptplatz 16-17, 8010 Graz
END:VEVENT
END:VCALENDAR