BEGIN:VCALENDAR
VERSION:2.0
PRODID:https://www.kufer.de/kuferweb / DE
METHOD:PUBLISH
CALSCALE:GREGORIAN
X-WR-TIMEZONE:Europe/Berlin
BEGIN:VTIMEZONE
TZID:Europe/Berlin
X-LIC-LOCATION:Europe/Berlin
BEGIN:DAYLIGHT
TZOFFSETFROM:+0100
TZOFFSETTO:+0200
TZNAME:CEST
DTSTART:19700329T020000
RRULE:FREQ=YEARLY;INTERVAL=1;BYDAY=-1SU;BYMONTH=3
END:DAYLIGHT
BEGIN:STANDARD
TZOFFSETFROM:+0200
TZOFFSETTO:+0100
TZNAME:CET
DTSTART:19701025T030000
RRULE:FREQ=YEARLY;INTERVAL=1;BYDAY=-1SU;BYMONTH=10
END:STANDARD
END:VTIMEZONE
BEGIN:VEVENT
DTSTAMP:20260422T042600
DTSTART;TZID=Europe/Berlin:20260706T130000
DTEND;TZID=Europe/Berlin:20260706T150000
UID:T610-20260706T130000@URANIAGRAZ
SUMMARY:Urlaubsspanisch (A1) -- Intensivkurs Ein Kurs für Lernende ohne Sprachkenntnisse. (T610) 
LOCATION:URANIA, Hauptplatz 16-17/II, Kursraum 04 "Neptun", Hauptplatz 16-17/2. Stock, 8010 Graz
END:VEVENT
BEGIN:VEVENT
DTSTAMP:20260422T042600
DTSTART;TZID=Europe/Berlin:20260707T130000
DTEND;TZID=Europe/Berlin:20260707T150000
UID:T610-20260707T130000@URANIAGRAZ
SUMMARY:Urlaubsspanisch (A1) -- Intensivkurs Ein Kurs für Lernende ohne Sprachkenntnisse. (T610) 
LOCATION:URANIA, Hauptplatz 16-17/II, Kursraum 04 "Neptun", Hauptplatz 16-17/2. Stock, 8010 Graz
END:VEVENT
BEGIN:VEVENT
DTSTAMP:20260422T042600
DTSTART;TZID=Europe/Berlin:20260708T130000
DTEND;TZID=Europe/Berlin:20260708T150000
UID:T610-20260708T130000@URANIAGRAZ
SUMMARY:Urlaubsspanisch (A1) -- Intensivkurs Ein Kurs für Lernende ohne Sprachkenntnisse. (T610) 
LOCATION:URANIA, Hauptplatz 16-17/II, Kursraum 04 "Neptun", Hauptplatz 16-17/2. Stock, 8010 Graz
END:VEVENT
BEGIN:VEVENT
DTSTAMP:20260422T042600
DTSTART;TZID=Europe/Berlin:20260709T130000
DTEND;TZID=Europe/Berlin:20260709T150000
UID:T610-20260709T130000@URANIAGRAZ
SUMMARY:Urlaubsspanisch (A1) -- Intensivkurs Ein Kurs für Lernende ohne Sprachkenntnisse. (T610) 
LOCATION:URANIA, Hauptplatz 16-17/II, Kursraum 04 "Neptun", Hauptplatz 16-17/2. Stock, 8010 Graz
END:VEVENT
BEGIN:VEVENT
DTSTAMP:20260422T042600
DTSTART;TZID=Europe/Berlin:20260710T130000
DTEND;TZID=Europe/Berlin:20260710T150000
UID:T610-20260710T130000@URANIAGRAZ
SUMMARY:Urlaubsspanisch (A1) -- Intensivkurs Ein Kurs für Lernende ohne Sprachkenntnisse. (T610) 
LOCATION:URANIA, Hauptplatz 16-17/II, Kursraum 04 "Neptun", Hauptplatz 16-17/2. Stock, 8010 Graz
END:VEVENT
END:VCALENDAR